BEGIN:VCALENDAR
VERSION:2.0
PRODID:-//The Texas Society of Medical Assistants - ECPv6.15.13//NONSGML v1.0//EN
CALSCALE:GREGORIAN
METHOD:PUBLISH
X-ORIGINAL-URL:https://mytsma.org
X-WR-CALDESC:Events for The Texas Society of Medical Assistants
REFRESH-INTERVAL;VALUE=DURATION:PT1H
X-Robots-Tag:noindex
X-PUBLISHED-TTL:PT1H
BEGIN:VTIMEZONE
TZID:UTC
BEGIN:STANDARD
TZOFFSETFROM:+0000
TZOFFSETTO:+0000
TZNAME:UTC
DTSTART:20230101T000000
END:STANDARD
END:VTIMEZONE
BEGIN:VEVENT
DTSTART;VALUE=DATE:20241017
DTEND;VALUE=DATE:20241022
DTSTAMP:20260422T101829
CREATED:20240418T171907Z
LAST-MODIFIED:20240418T171956Z
UID:2915-1729123200-1729555199@mytsma.org
SUMMARY:MAR Weekend Cruise  (w/ CEUs)
DESCRIPTION:October 17-21\, 2024\nGalveston – Cozumel \nReservations can be made through May 19th.\n\nGroup Code F7ZL22\nThe Groups Department hours are: Monday- Friday\, 9:00 am-8:00 pm\nThere are multiple ways to contact them:\nIf the guest call 1-866-721-3225\, they can select prompt 3 for new Groups bookings.\nIf they call 1-800-438-6744\, they can put in extension 70229 for the Groups Department.
URL:https://mytsma.org/event/mar-weekend-cruise-w-ceus/
CATEGORIES:TSMA Events
END:VEVENT
END:VCALENDAR