BEGIN:VCALENDAR
VERSION:2.0
PRODID:-//The Texas Society of Medical Assistants - ECPv6.15.13//NONSGML v1.0//EN
CALSCALE:GREGORIAN
METHOD:PUBLISH
X-ORIGINAL-URL:https://mytsma.org
X-WR-CALDESC:Events for The Texas Society of Medical Assistants
REFRESH-INTERVAL;VALUE=DURATION:PT1H
X-Robots-Tag:noindex
X-PUBLISHED-TTL:PT1H
BEGIN:VTIMEZONE
TZID:UTC
BEGIN:STANDARD
TZOFFSETFROM:+0000
TZOFFSETTO:+0000
TZNAME:UTC
DTSTART:20220101T000000
END:STANDARD
END:VTIMEZONE
BEGIN:VEVENT
DTSTART;VALUE=DATE:20230721
DTEND;VALUE=DATE:20230724
DTSTAMP:20260419T212035
CREATED:20230201T203429Z
LAST-MODIFIED:20230607T163010Z
UID:2606-1689897600-1690156799@mytsma.org
SUMMARY:Southwest Regional Leadership Meeting
DESCRIPTION:Southwest Regional Leadership Meeting\nJuly 19-21\, 2023\nFriday\, July 21\, 2023 at 11:00 AM CDT to Sunday\, July 23\, 2023 at 1:00 PM CDT\nLocation: Doubletree Houston Hobby Airport\n8181 Airport Boulevard\nHOUSTON\, TX 77061\nMap/Directions\nContact: Lisa Connelley CMA (AAMA)\, TSMA President\nTexas Society of Medical Assistants\n713-906-5312\npresident@mytsma.org  \nMEETING DETAILS:\nWe would love to have you for a weekend of CEUs\, networking and fun! We are excited to offer you two days of continuing education topics along with learning some new leadership skills. \nTSMA is hard at work trying to put together quality CEU events and opportuntiies – we are working to provide all medical assistants with quality education and new leadership tools. (Tenative 11.5 approved CEU’s). Two meals will be provided along with a super fun Dessert Social on the day of arrival. \nEarly Bird registration is open to current SWR Leaders and will open to all members of SWR June 1\, 2023. Registration will close one week prior to the event. Each meal event will require an RSVP to assure that meals will be ordered for each attendee \nRooms will be available at the Doubletree (host hotel) for $115/night (inlcuidng breakfast). Shuttle service from Houston Hobby is available; shuttle service within a 3 mile radius will be available. All room reservations must be made by June 30\, 2023 at 6pm. \nClick below to make your hotel reservation. \nhttps://www.hilton.com/en/attend-my-event/houhodt-90j-ebb20731-6d88-4765-9578-4d00bcb6624a/ \nClick Here to RegisterSWR Vendor Sign UpJoin the Texas Society of Medical Assistants as we celebrate 60 years of the TSMA Members “Helping Physicians Care for Texans.” This will be a weekend full of great education\, forums and networking with a great evening of celebration of the past and future of TSMA. \nCLICK HER FOR VENDOR SIGN UP
URL:https://mytsma.org/event/southwest-regional-leadership-meeting/
CATEGORIES:TSMA Events
ORGANIZER;CN="TSMA":MAILTO:info@mytsma.org
END:VEVENT
END:VCALENDAR