BEGIN:VCALENDAR
VERSION:2.0
PRODID:-//The Texas Society of Medical Assistants - ECPv6.15.13//NONSGML v1.0//EN
CALSCALE:GREGORIAN
METHOD:PUBLISH
X-WR-CALNAME:The Texas Society of Medical Assistants
X-ORIGINAL-URL:https://mytsma.org
X-WR-CALDESC:Events for The Texas Society of Medical Assistants
REFRESH-INTERVAL;VALUE=DURATION:PT1H
X-Robots-Tag:noindex
X-PUBLISHED-TTL:PT1H
BEGIN:VTIMEZONE
TZID:UTC
BEGIN:STANDARD
TZOFFSETFROM:+0000
TZOFFSETTO:+0000
TZNAME:UTC
DTSTART:20220101T000000
END:STANDARD
END:VTIMEZONE
BEGIN:VEVENT
DTSTART;VALUE=DATE:20230519
DTEND;VALUE=DATE:20230522
DTSTAMP:20260419T160113
CREATED:20230201T203210Z
LAST-MODIFIED:20230413T193022Z
UID:2603-1684454400-1684713599@mytsma.org
SUMMARY:TSMA Annual Education Conference and General Assembly
DESCRIPTION:TSMA Annual Education Conference and General Assembly\nMay 19-21\, 2023 \nFriday\, May 19\, 2023 at 10:00 AM\n-to-\nSunday\, May 21\, 2023 at 12:00 PM \nLocation: HOLIDAY INN HOUSTON-BUSH INTERCONTINENTAL AIRPORT\n15222 JOHN F KENNEDY BLVD\nHOUSTON\, TX 77032 \nHotel Registration:\nGroup Block Name: TSMA Annual Conference\nGroup Block Code: TAC\nGroup Booking Link: https://www.holidayinn.com/redirect?path=hd&brandCode=HI&localeCode=en&regionCode=1&hotelCode=HOUAP&_PMID=99801505&GPC=TAC&cn=no&viewfullsite=true \nTSMA encourages you come out of your cocoon and spread your wings-take flight into with TSMA at our Annual Education Conference.  \nJoin us as for a full weekend of CEUs\, networking and fun! We are excited to offer you a weekend of continuing education topics along with a little TSMA business. (TSMA is still looking for officers\, committee members and chairs-come help TSMA grow)  \nTSMA is hard at work trying to put together quality CEU events and opportunities for our members and all medical assistants. We are please to be offering between 9-12 CEUs at this year’s event. \nWe are pleased to offer our TSMA Members as part of the AAMA Membership benefit a 10% discount on registration for the Two Day In-Person attendance for this TSMA Annual Conference and General Assembly (separate email was sent with coupon code).   \nRooms will be available at the host hotel for $95.00/night (including breakfast).  All reservations must be made by April 29\, 2023 at 6pm. \nContact:\nLisa Connelley\, CMA (AAMA)-TSMA President\nTexas Society of Medical Assistants\npresident@mytsma.org
URL:https://mytsma.org/event/tsma-annual-education-conference-and-general-assembly/
LOCATION:HOLIDAY INN HOUSTON-BUSH INTERCONTINENTAL AIRPORT\, 15222 JOHN F KENNEDY BLVD\, Houston\, 77032\, United States
CATEGORIES:TSMA Events
ORGANIZER;CN="TSMA":MAILTO:info@mytsma.org
END:VEVENT
END:VCALENDAR