BEGIN:VCALENDAR
VERSION:2.0
PRODID:-//The Texas Society of Medical Assistants - ECPv6.15.13//NONSGML v1.0//EN
CALSCALE:GREGORIAN
METHOD:PUBLISH
X-ORIGINAL-URL:https://mytsma.org
X-WR-CALDESC:Events for The Texas Society of Medical Assistants
REFRESH-INTERVAL;VALUE=DURATION:PT1H
X-Robots-Tag:noindex
X-PUBLISHED-TTL:PT1H
BEGIN:VTIMEZONE
TZID:UTC
BEGIN:STANDARD
TZOFFSETFROM:+0000
TZOFFSETTO:+0000
TZNAME:UTC
DTSTART:20200101T000000
END:STANDARD
END:VTIMEZONE
BEGIN:VEVENT
DTSTART;VALUE=DATE:20210924
DTEND;VALUE=DATE:20210928
DTSTAMP:20260423T054954
CREATED:20200617T151512Z
LAST-MODIFIED:20200723T004722Z
UID:2275-1632441600-1632787199@mytsma.org
SUMMARY:2021 AAMA 65th Conference
DESCRIPTION:2021 AAMA 65th Conference\nSeptember 24-27th\, 2021\nThe Westin Galleria Houston\, TX
URL:https://mytsma.org/event/2021-aama-65th-conference/
LOCATION:The Westin Galleria Houston\, 5060 W Alabama Street\, Houston\, 77056\, United States
CATEGORIES:TSMA Events
END:VEVENT
END:VCALENDAR