BEGIN:VCALENDAR
VERSION:2.0
PRODID:-//The Texas Society of Medical Assistants - ECPv6.15.13//NONSGML v1.0//EN
CALSCALE:GREGORIAN
METHOD:PUBLISH
X-ORIGINAL-URL:https://mytsma.org
X-WR-CALDESC:Events for The Texas Society of Medical Assistants
REFRESH-INTERVAL;VALUE=DURATION:PT1H
X-Robots-Tag:noindex
X-PUBLISHED-TTL:PT1H
BEGIN:VTIMEZONE
TZID:UTC
BEGIN:STANDARD
TZOFFSETFROM:+0000
TZOFFSETTO:+0000
TZNAME:UTC
DTSTART:20200101T000000
END:STANDARD
END:VTIMEZONE
BEGIN:VEVENT
DTSTART;VALUE=DATE:20210123
DTEND;VALUE=DATE:20210124
DTSTAMP:20260423T195408
CREATED:20200610T194753Z
LAST-MODIFIED:20201226T174207Z
UID:2158-1611360000-1611446399@mytsma.org
SUMMARY:2021 TSMA Leadership Meeting and Special General Assembly Meeting
DESCRIPTION:2021 TSMA Leadership Retreat\nSaturday January 23\, 2021\nHosted by Dallas Chapter \n(Leadership Reports due three weeks before meeting to TSMA President)
URL:https://mytsma.org/event/2021-tsma-leadership-retreat/
LOCATION:VIRTUAL FORMAT
CATEGORIES:TSMA Events
ORGANIZER;CN="TSMA":MAILTO:info@mytsma.org
END:VEVENT
END:VCALENDAR