BEGIN:VCALENDAR
VERSION:2.0
PRODID:-//The Texas Society of Medical Assistants - ECPv6.15.13//NONSGML v1.0//EN
CALSCALE:GREGORIAN
METHOD:PUBLISH
X-ORIGINAL-URL:https://mytsma.org
X-WR-CALDESC:Events for The Texas Society of Medical Assistants
REFRESH-INTERVAL;VALUE=DURATION:PT1H
X-Robots-Tag:noindex
X-PUBLISHED-TTL:PT1H
BEGIN:VTIMEZONE
TZID:UTC
BEGIN:STANDARD
TZOFFSETFROM:+0000
TZOFFSETTO:+0000
TZNAME:UTC
DTSTART:20190101T000000
END:STANDARD
END:VTIMEZONE
BEGIN:VEVENT
DTSTART;VALUE=DATE:20200808
DTEND;VALUE=DATE:20200809
DTSTAMP:20260424T022711
CREATED:20200610T194604Z
LAST-MODIFIED:20200617T152041Z
UID:2155-1596844800-1596931199@mytsma.org
SUMMARY:Summer 2020 Meeting
DESCRIPTION:Summer 2020 Meeting\nSaturday August 8\, 2020\nMethodist Willowbrook (will be virtual and in person)\nHosted by Northeast Harris Chapter \n(Leadership Reports due three weeks before meeting to TSMA President)
URL:https://mytsma.org/event/summer-2020-meeting/
LOCATION:VIRTUAL FORMAT
CATEGORIES:TSMA Events
END:VEVENT
END:VCALENDAR