BEGIN:VCALENDAR
VERSION:2.0
PRODID:-//The Texas Society of Medical Assistants - ECPv6.15.13//NONSGML v1.0//EN
CALSCALE:GREGORIAN
METHOD:PUBLISH
X-ORIGINAL-URL:https://mytsma.org
X-WR-CALDESC:Events for The Texas Society of Medical Assistants
REFRESH-INTERVAL;VALUE=DURATION:PT1H
X-Robots-Tag:noindex
X-PUBLISHED-TTL:PT1H
BEGIN:VTIMEZONE
TZID:UTC
BEGIN:STANDARD
TZOFFSETFROM:+0000
TZOFFSETTO:+0000
TZNAME:UTC
DTSTART:20230101T000000
END:STANDARD
END:VTIMEZONE
BEGIN:VEVENT
DTSTART;VALUE=DATE:20240516
DTEND;VALUE=DATE:20240520
DTSTAMP:20260420T015634
CREATED:20240412T145348Z
LAST-MODIFIED:20240418T171320Z
UID:2866-1715817600-1716163199@mytsma.org
SUMMARY:2024 TSMA Annual Education Conference and General Assembly
DESCRIPTION:TSMA Annual Education Conference and General Assembly \nThursday May 16\, 2024\n8:00 PM Pre-Conference General Membership Meeting \nFriday May 17\, 2024\n12:30-1:55 PM General Assembly/Memorial Service (Voting for By-Laws and New Board Members)\n2:00-3:30 PM Serena Bumpus\, DNP\, RN\, NEA-BC -Skills Needed to Excel as a Leader CEU (1.5)\n3:45-5:15 PM Ashley Odom\, CEO- AI (Artificial Intelligence) CEU (1.5)\n5:30-7:00 PM Claudia Ewers -Me First: Self-Care is not Selfish CEU (1.5)\n7:15-8:15 PM Lisa Connelley\, CMA (AAMA)-Pizza with CEU Game Session (1.0) \nSaturday May 18\, 2024\n8:30-9:00 AM Registration/Welcome/Announcements\n9:00-10:00 AM Don Balasa\, JD\, CEO – Texas Scope of Practice CEU (1.0)\n10:15-11:45 AM Kristilyn Moses\, CMA (AAMA) – Patient Advocacy CEU (1.5)\n12:00 –12:30 PM Shirley Sawyer\, CMA (AAMA) – AAMA Representative\n12:45 -1:45 PM LUNCH (Provided-Patio)\n2:00-3:00 PM Sherry Bogar\, CMA (AAMA)\, CN-BC-Scattergories CEU (1.0)\n3:10-4:40 PM Cheri Hatcher/ Cheryl Banko CEU (1.5)\n4:40-5:00 PM Special Presentation\n5:00-6:00 PM LaTonya Jones-Odage\, CMA (AAMA)- DEI for Healthcare Professionals CEU (1.0)\n6:00 PM DINNER ON YOUR OWN \nSunday May 18\, 2024\n9:00 AM Post Conference General Membership Meeting \n** All CEUs pending AAMA Approval and Agendas are subject to change \nREGISTER FOR THE 2024 TSMA ANNUAL EDUCATION CONFERENCEMAKE YOUR HOTEL RESERVATIONLOCATION:\nHomewood Suites by Hilton TechRidge Parmer @ I-35\nAddress: 13001 Center Lake Dr\, Austin\, TX 78753\nMap/Directions\nPhone: (512) 989-1100 \n2024 Conference FlyerHotel Registration Info Flyer
URL:https://mytsma.org/event/2024-tsma-annual-education-conference-and-general-assembly/
LOCATION:Homewood Suites by Hilton\, 13001 Center Lake Drive\, Austin\, 78753\, United States
CATEGORIES:TSMA Events
END:VEVENT
END:VCALENDAR