BEGIN:VCALENDAR
VERSION:2.0
PRODID:-//The Texas Society of Medical Assistants - ECPv6.15.13//NONSGML v1.0//EN
CALSCALE:GREGORIAN
METHOD:PUBLISH
X-WR-CALNAME:The Texas Society of Medical Assistants
X-ORIGINAL-URL:https://mytsma.org
X-WR-CALDESC:Events for The Texas Society of Medical Assistants
REFRESH-INTERVAL;VALUE=DURATION:PT1H
X-Robots-Tag:noindex
X-PUBLISHED-TTL:PT1H
BEGIN:VTIMEZONE
TZID:UTC
BEGIN:STANDARD
TZOFFSETFROM:+0000
TZOFFSETTO:+0000
TZNAME:UTC
DTSTART:20220101T000000
END:STANDARD
END:VTIMEZONE
BEGIN:VEVENT
DTSTART;TZID=UTC:20230211T083000
DTEND;TZID=UTC:20230211T141500
DTSTAMP:20260419T162118
CREATED:20230121T192903Z
LAST-MODIFIED:20230121T194010Z
UID:2586-1676104200-1676124900@mytsma.org
SUMMARY:TSMA 2023 Winter Meeting
DESCRIPTION:TSMA 2023 Winter Meeting\nSaturday\, February 11\, 2023 from 8:30 AM to 2:15 PM CST \nKick off the New Year with a CEU’s for with fellow Texas Medical Assistant. TSMA will be offering 4.0 CEU’s including lunch and learn from 12:30 to 1:30 pm. Topics TBD. All Medical Assistants\, Professional Practitioner\, Students and Educators are welcome. \nContact: Lisa Marie Connelley\nTSMA\n713-906-5312\npresident@mytsma.org \nClick Here to Register
URL:https://mytsma.org/event/tsma-2023-winter-meeting/
CATEGORIES:TSMA Events
ATTACH;FMTTYPE=image/jpeg:https://mytsma.org/wp-content/uploads/2023/01/cal.jpg
ORGANIZER;CN="TSMA":MAILTO:info@mytsma.org
END:VEVENT
END:VCALENDAR