BEGIN:VCALENDAR
VERSION:2.0
PRODID:-//The Texas Society of Medical Assistants - ECPv6.15.13//NONSGML v1.0//EN
CALSCALE:GREGORIAN
METHOD:PUBLISH
X-WR-CALNAME:The Texas Society of Medical Assistants
X-ORIGINAL-URL:https://mytsma.org
X-WR-CALDESC:Events for The Texas Society of Medical Assistants
REFRESH-INTERVAL;VALUE=DURATION:PT1H
X-Robots-Tag:noindex
X-PUBLISHED-TTL:PT1H
BEGIN:VTIMEZONE
TZID:UTC
BEGIN:STANDARD
TZOFFSETFROM:+0000
TZOFFSETTO:+0000
TZNAME:UTC
DTSTART:20190101T000000
END:STANDARD
END:VTIMEZONE
BEGIN:VEVENT
DTSTART;TZID=UTC:20201024T080000
DTEND;TZID=UTC:20201024T170000
DTSTAMP:20260423T222609
CREATED:20200907T025855Z
LAST-MODIFIED:20200907T030002Z
UID:2446-1603526400-1603558800@mytsma.org
SUMMARY:2020 TSMA Medical Assistants Recognition Seminar
DESCRIPTION:
URL:https://mytsma.org/event/medical-assistants-recognition-seminar/
CATEGORIES:TSMA Events
ORGANIZER;CN="TSMA":MAILTO:info@mytsma.org
END:VEVENT
END:VCALENDAR