BEGIN:VCALENDAR
VERSION:2.0
PRODID:-//The Texas Society of Medical Assistants - ECPv6.15.13//NONSGML v1.0//EN
CALSCALE:GREGORIAN
METHOD:PUBLISH
X-ORIGINAL-URL:https://mytsma.org
X-WR-CALDESC:Events for The Texas Society of Medical Assistants
REFRESH-INTERVAL;VALUE=DURATION:PT1H
X-Robots-Tag:noindex
X-PUBLISHED-TTL:PT1H
BEGIN:VTIMEZONE
TZID:UTC
BEGIN:STANDARD
TZOFFSETFROM:+0000
TZOFFSETTO:+0000
TZNAME:UTC
DTSTART:20190101T000000
END:STANDARD
END:VTIMEZONE
BEGIN:VEVENT
DTSTART;VALUE=DATE:20200911
DTEND;VALUE=DATE:20200915
DTSTAMP:20260423T235425
CREATED:20200527T164808Z
LAST-MODIFIED:20200722T010651Z
UID:1948-1599782400-1600127999@mytsma.org
SUMMARY:AAMA National Education Conference - Cancelled
DESCRIPTION:The AAMA National Education Conference has been cancelled due to the Covid-19 pandemic. See you in Houston next year!!! \n\n\nAAMA National Education Conference\nSeptember 11-14\, 2020 \nKeep your eyes peeled for more information. Look for details to come on the AAMA Website. \nTSMA would like to get a group together to go to Orlando\, FL-as we will presenting for Houston 2021! If you are available please email us at info@mytsma.org. \n\n(Leadership Reports due three weeks before meeting to TSMA President)
URL:https://mytsma.org/event/aama-national-education-conference/
LOCATION:Lake Buena Vista\, Florida\, 1751 Hotel Plaza Boulevard\, Lake Buena Vista\, FL\, 32830\, United States
CATEGORIES:TSMA Events
END:VEVENT
END:VCALENDAR