BEGIN:VCALENDAR
VERSION:2.0
PRODID:-//The Texas Society of Medical Assistants - ECPv6.15.13//NONSGML v1.0//EN
CALSCALE:GREGORIAN
METHOD:PUBLISH
X-WR-CALNAME:The Texas Society of Medical Assistants
X-ORIGINAL-URL:https://mytsma.org
X-WR-CALDESC:Events for The Texas Society of Medical Assistants
REFRESH-INTERVAL;VALUE=DURATION:PT1H
X-Robots-Tag:noindex
X-PUBLISHED-TTL:PT1H
BEGIN:VTIMEZONE
TZID:UTC
BEGIN:STANDARD
TZOFFSETFROM:+0000
TZOFFSETTO:+0000
TZNAME:UTC
DTSTART:20190101T000000
END:STANDARD
END:VTIMEZONE
BEGIN:VEVENT
DTSTART;TZID=UTC:20200929T183000
DTEND;TZID=UTC:20200929T200000
DTSTAMP:20260419T151031
CREATED:20200809T162100Z
LAST-MODIFIED:20200809T162100Z
UID:2411-1601404200-1601409600@mytsma.org
SUMMARY:Web of Autoimmunity-Gluten\, Leaky Gut\, The Microbiome and Autoimmunity
DESCRIPTION:
URL:https://mytsma.org/event/web-of-autoimmunity-gluten-leaky-gut-the-microbiome-and-autoimmunity/
LOCATION:Living Well Dallas Functional Medicine Clinic\, 17000 Preston Rd\, Dallas\, TX\, 75248\, United States
CATEGORIES:Community Events
END:VEVENT
END:VCALENDAR