BEGIN:VCALENDAR
VERSION:2.0
PRODID:-//The Texas Society of Medical Assistants - ECPv6.15.13//NONSGML v1.0//EN
CALSCALE:GREGORIAN
METHOD:PUBLISH
X-WR-CALNAME:The Texas Society of Medical Assistants
X-ORIGINAL-URL:https://mytsma.org
X-WR-CALDESC:Events for The Texas Society of Medical Assistants
REFRESH-INTERVAL;VALUE=DURATION:PT1H
X-Robots-Tag:noindex
X-PUBLISHED-TTL:PT1H
BEGIN:VTIMEZONE
TZID:UTC
BEGIN:STANDARD
TZOFFSETFROM:+0000
TZOFFSETTO:+0000
TZNAME:UTC
DTSTART:20190101T000000
END:STANDARD
END:VTIMEZONE
BEGIN:VEVENT
DTSTART;TZID=UTC:20200822T100000
DTEND;TZID=UTC:20200822T120000
DTSTAMP:20260419T183440
CREATED:20200730T003436Z
LAST-MODIFIED:20200809T164612Z
UID:2395-1598090400-1598097600@mytsma.org
SUMMARY:Walk With Doc
DESCRIPTION:Walk with Doc – Tisha Rowe MD \nDATE and TIME: Saturday August 22\, 2020 10:00 AM – 12:00 PM CDT \nLOCATION: MacGregor Park 5225 Calhoun Road Houston\, TX 77021 \nCOST: FREE \nREGISTER:  http://www.eventbrite.com
URL:https://mytsma.org/event/walk-with-doc/
LOCATION:MacGregor Park\, 5225 Calhoun Road\, HOUSTON\, TX\, 77021\, United States
CATEGORIES:Community Events
END:VEVENT
END:VCALENDAR