BEGIN:VCALENDAR
VERSION:2.0
PRODID:-//The Texas Society of Medical Assistants - ECPv6.15.13//NONSGML v1.0//EN
CALSCALE:GREGORIAN
METHOD:PUBLISH
X-WR-CALNAME:The Texas Society of Medical Assistants
X-ORIGINAL-URL:https://mytsma.org
X-WR-CALDESC:Events for The Texas Society of Medical Assistants
REFRESH-INTERVAL;VALUE=DURATION:PT1H
X-Robots-Tag:noindex
X-PUBLISHED-TTL:PT1H
BEGIN:VTIMEZONE
TZID:UTC
BEGIN:STANDARD
TZOFFSETFROM:+0000
TZOFFSETTO:+0000
TZNAME:UTC
DTSTART:20190101T000000
END:STANDARD
END:VTIMEZONE
BEGIN:VEVENT
DTSTART;TZID=UTC:20200711T080000
DTEND;TZID=UTC:20200711T120000
DTSTAMP:20260419T202131
CREATED:20200610T204837Z
LAST-MODIFIED:20200610T204847Z
UID:2198-1594454400-1594468800@mytsma.org
SUMMARY:7th Annual SUPER Walk for Wellness
DESCRIPTION:7th Annual SUPER Walk for Wellness\nJuly 11\, 2020\n8:00am-12:00pm\nOnline Sales Ended but can buy at event through Evenbrite.com\nHollibrook Elementary\n3602 Hollister Rd\nHouston\, TX 77080
URL:https://mytsma.org/event/7th-annual-super-walk-for-wellness/
LOCATION:Hollibrook Elementary\, 3602 Hollister Rd.\, Houston\, 77080\, United States
CATEGORIES:Community Events
END:VEVENT
END:VCALENDAR