BEGIN:VCALENDAR
VERSION:2.0
PRODID:-//The Texas Society of Medical Assistants - ECPv6.15.13//NONSGML v1.0//EN
CALSCALE:GREGORIAN
METHOD:PUBLISH
X-ORIGINAL-URL:https://mytsma.org
X-WR-CALDESC:Events for The Texas Society of Medical Assistants
REFRESH-INTERVAL;VALUE=DURATION:PT1H
X-Robots-Tag:noindex
X-PUBLISHED-TTL:PT1H
BEGIN:VTIMEZONE
TZID:UTC
BEGIN:STANDARD
TZOFFSETFROM:+0000
TZOFFSETTO:+0000
TZNAME:UTC
DTSTART:20190101T000000
END:STANDARD
END:VTIMEZONE
BEGIN:VEVENT
DTSTART;TZID=UTC:20200616T110000
DTEND;TZID=UTC:20200616T120000
DTSTAMP:20260419T220244
CREATED:20200610T204536Z
LAST-MODIFIED:20200610T204536Z
UID:2196-1592305200-1592308800@mytsma.org
SUMMARY:Covid-19 Statewide Food Assistance & Nutrition Virtual Town Hall – WEBINAR
DESCRIPTION:Covid-19 Statewide Food Assistance & Nutrition Virtual Town Hall – WEBINAR\nJune 16\, 2020\n11:00am-12:00pm\nFREE through Eventbrite.com\nHunger Free Texans\nHouston\, TX 77007
URL:https://mytsma.org/event/covid-19-statewide-food-assistance-nutrition-virtual-town-hall-webinar/
LOCATION:VIRTUAL FORMAT
CATEGORIES:Community Events
END:VEVENT
END:VCALENDAR